Package: geneplotter Version: 1.88.0 Command: /Library/Frameworks/R.framework/Resources/bin/R CMD build --keep-empty-dirs --no-resave-data geneplotter StartedAt: 2025-11-03 17:07:32 -0500 (Mon, 03 Nov 2025) EndedAt: 2025-11-03 17:08:05 -0500 (Mon, 03 Nov 2025) EllapsedTime: 33.1 seconds RetCode: 0 Status: OK PackageFile: geneplotter_1.88.0.tar.gz PackageFileSize: 1.649 MiB