Package: geneplotter Version: 1.86.0 Command: /home/biocbuild/R/R/bin/R CMD INSTALL geneplotter StartedAt: 2025-10-06 20:40:02 -0000 (Mon, 06 Oct 2025) EndedAt: 2025-10-06 20:40:22 -0000 (Mon, 06 Oct 2025) EllapsedTime: 19.7 seconds RetCode: 0 Status: OK