Package: geneplotter Version: 1.86.0 Command: /home/biocbuild/R/R/bin/R CMD build --keep-empty-dirs --no-resave-data geneplotter StartedAt: 2025-10-07 01:06:08 -0000 (Tue, 07 Oct 2025) EndedAt: 2025-10-07 01:06:40 -0000 (Tue, 07 Oct 2025) EllapsedTime: 32.0 seconds RetCode: 0 Status: OK PackageFile: geneplotter_1.86.0.tar.gz PackageFileSize: 1.65 MiB