Package: genefu Version: 2.42.0 Command: /home/biocbuild/bbs-3.22-bioc/R/bin/R CMD INSTALL genefu StartedAt: 2025-11-13 15:39:03 -0500 (Thu, 13 Nov 2025) EndedAt: 2025-11-13 15:39:30 -0500 (Thu, 13 Nov 2025) EllapsedTime: 26.8 seconds RetCode: 0 Status: OK