Package: genefu Version: 2.42.0 Command: /home/biocbuild/bbs-3.22-bioc/R/bin/R CMD build --keep-empty-dirs --no-resave-data --md5 genefu StartedAt: 2025-11-14 17:49:32 -0500 (Fri, 14 Nov 2025) EndedAt: 2025-11-14 17:50:46 -0500 (Fri, 14 Nov 2025) EllapsedTime: 74.1 seconds RetCode: 0 Status: OK PackageFile: genefu_2.42.0.tar.gz PackageFileSize: 4.907 MiB