Package: geneRecommender Version: 1.82.0 Command: /home/biocbuild/bbs-3.22-bioc/R/bin/R CMD INSTALL geneRecommender StartedAt: 2025-11-03 15:12:44 -0500 (Mon, 03 Nov 2025) EndedAt: 2025-11-03 15:12:47 -0500 (Mon, 03 Nov 2025) EllapsedTime: 3.0 seconds RetCode: 0 Status: OK