Package: geneClassifiers Version: 1.34.0 Command: /home/biocbuild/bbs-3.22-bioc/R/bin/R CMD build --keep-empty-dirs --no-resave-data --md5 geneClassifiers StartedAt: 2025-11-11 17:49:46 -0500 (Tue, 11 Nov 2025) EndedAt: 2025-11-11 17:49:57 -0500 (Tue, 11 Nov 2025) EllapsedTime: 11.0 seconds RetCode: 0 Status: OK PackageFile: geneClassifiers_1.34.0.tar.gz PackageFileSize: 1.849 MiB