Package: geneAttribution Version: 1.36.0 Command: /home/biocbuild/bbs-3.22-bioc/R/bin/R CMD INSTALL geneAttribution StartedAt: 2025-10-31 15:56:52 -0400 (Fri, 31 Oct 2025) EndedAt: 2025-10-31 15:57:25 -0400 (Fri, 31 Oct 2025) EllapsedTime: 33.8 seconds RetCode: 0 Status: OK