Package: geneAttribution Version: 1.36.0 Command: /home/biocbuild/bbs-3.22-bioc/R/bin/R CMD build --keep-empty-dirs --no-resave-data --md5 geneAttribution StartedAt: 2025-10-31 17:55:00 -0400 (Fri, 31 Oct 2025) EndedAt: 2025-10-31 17:55:35 -0400 (Fri, 31 Oct 2025) EllapsedTime: 35.0 seconds RetCode: 0 Status: OK PackageFile: geneAttribution_1.36.0.tar.gz PackageFileSize: 39.71 KiB