Package: genArise Version: 1.86.0 Command: /home/biocbuild/bbs-3.22-bioc/R/bin/R CMD build --keep-empty-dirs --no-resave-data --md5 genArise StartedAt: 2025-11-11 17:49:29 -0500 (Tue, 11 Nov 2025) EndedAt: 2025-11-11 17:49:40 -0500 (Tue, 11 Nov 2025) EllapsedTime: 11.0 seconds RetCode: 0 Status: OK PackageFile: genArise_1.86.0.tar.gz PackageFileSize: 1.026 MiB