Package: genArise Version: 1.86.0 Command: /Library/Frameworks/R.framework/Resources/bin/R CMD INSTALL genArise StartedAt: 2025-11-10 15:02:41 -0500 (Mon, 10 Nov 2025) EndedAt: 2025-11-10 15:02:50 -0500 (Mon, 10 Nov 2025) EllapsedTime: 9.0 seconds RetCode: 0 Status: OK