Package: genArise Version: 1.86.0 Command: /Library/Frameworks/R.framework/Resources/bin/R CMD build --keep-empty-dirs --no-resave-data genArise StartedAt: 2025-11-10 16:28:33 -0500 (Mon, 10 Nov 2025) EndedAt: 2025-11-10 16:28:39 -0500 (Mon, 10 Nov 2025) EllapsedTime: 6.1 seconds RetCode: 0 Status: OK PackageFile: genArise_1.86.0.tar.gz PackageFileSize: 1.025 MiB