Package: genArise Version: 1.86.0 Command: rm -rf genArise.buildbin-libdir && mkdir genArise.buildbin-libdir && /Users/biocbuild/BBS/utils/build-universal.sh genArise_1.86.0.tar.gz /Library/Frameworks/R.framework/Resources/bin/R genArise.buildbin-libdir StartedAt: 2025-11-10 23:21:07 -0500 (Mon, 10 Nov 2025) EndedAt: 2025-11-10 23:21:14 -0500 (Mon, 10 Nov 2025) EllapsedTime: 6.1 seconds RetCode: 0 Status: OK PackageFile: genArise_1.86.0.tgz PackageFileSize: 1.246 MiB