Package: gemma.R Version: 3.6.0 Command: /home/biocbuild/R/R/bin/R CMD build --keep-empty-dirs --no-resave-data gemma.R StartedAt: 2025-11-11 01:52:16 -0000 (Tue, 11 Nov 2025) EndedAt: 2025-11-11 02:14:18 -0000 (Tue, 11 Nov 2025) EllapsedTime: 1322.4 seconds RetCode: 0 Status: OK PackageFile: gemma.R_3.6.0.tar.gz PackageFileSize: 2.09 MiB