Package: gemma.R Version: 3.6.0 Command: /home/biocbuild/bbs-3.22-bioc/R/bin/R CMD check --install=check:gemma.R.install-out.txt --library=/home/biocbuild/bbs-3.22-bioc/R/site-library --timings gemma.R_3.6.0.tar.gz StartedAt: 2025-11-11 00:01:23 -0500 (Tue, 11 Nov 2025) EndedAt: 2025-11-11 00:13:38 -0500 (Tue, 11 Nov 2025) EllapsedTime: 734.7 seconds RetCode: 0 Status: OK CheckDir: gemma.R.Rcheck Warnings: 0