Package: gemma.R Version: 3.4.6 Command: /home/biocbuild/bbs-3.21-bioc/R/bin/R CMD INSTALL gemma.R StartedAt: 2025-09-28 15:32:27 -0400 (Sun, 28 Sep 2025) EndedAt: 2025-09-28 15:32:32 -0400 (Sun, 28 Sep 2025) EllapsedTime: 5.2 seconds RetCode: 0 Status: OK