Package: gemma.R Version: 3.4.6 Command: /home/biocbuild/bbs-3.21-bioc/R/bin/R CMD build --keep-empty-dirs --no-resave-data gemma.R StartedAt: 2025-09-28 17:51:36 -0400 (Sun, 28 Sep 2025) EndedAt: 2025-09-28 17:55:49 -0400 (Sun, 28 Sep 2025) EllapsedTime: 253.3 seconds RetCode: 0 Status: OK PackageFile: gemma.R_3.4.6.tar.gz PackageFileSize: 2.282 MiB