Package: gemma.R Version: 3.4.6 Command: /Library/Frameworks/R.framework/Resources/bin/R CMD INSTALL gemma.R StartedAt: 2025-09-25 15:31:53 -0400 (Thu, 25 Sep 2025) EndedAt: 2025-09-25 15:32:06 -0400 (Thu, 25 Sep 2025) EllapsedTime: 12.5 seconds RetCode: 0 Status: OK