Package: gemini Version: 1.24.0 Command: /home/biocbuild/bbs-3.22-bioc/R/bin/R CMD INSTALL gemini StartedAt: 2025-11-11 15:13:03 -0500 (Tue, 11 Nov 2025) EndedAt: 2025-11-11 15:13:19 -0500 (Tue, 11 Nov 2025) EllapsedTime: 16.6 seconds RetCode: 0 Status: OK