Package: gemini Version: 1.24.0 Command: /home/biocbuild/bbs-3.22-bioc/R/bin/R CMD check --install=check:gemini.install-out.txt --library=/home/biocbuild/bbs-3.22-bioc/R/site-library --timings gemini_1.24.0.tar.gz StartedAt: 2025-11-13 23:57:47 -0500 (Thu, 13 Nov 2025) EndedAt: 2025-11-14 00:00:14 -0500 (Fri, 14 Nov 2025) EllapsedTime: 147.1 seconds RetCode: 0 Status: OK CheckDir: gemini.Rcheck Warnings: 0