Package: gemini Version: 1.24.0 Maintainer: Sidharth Jain MaintainerEmail: sidharthsjain at gmail.com git_url: https://git.bioconductor.org/packages/gemini git_branch: RELEASE_3_22 git_last_commit: 3da3898 git_last_commit_date: 2025-10-29 10:52:58 -0400 (Wed, 29 Oct 2025)