Package: geNetClassifier Version: 1.50.0 Command: /home/biocbuild/R/R/bin/R CMD check --install=check:geNetClassifier.install-out.txt --library=/home/biocbuild/R/R/site-library --no-vignettes --timings geNetClassifier_1.50.0.tar.gz StartedAt: 2025-11-14 09:47:28 -0000 (Fri, 14 Nov 2025) EndedAt: 2025-11-14 09:48:30 -0000 (Fri, 14 Nov 2025) EllapsedTime: 61.1 seconds RetCode: 0 Status: OK CheckDir: geNetClassifier.Rcheck Warnings: 0