Package: geNetClassifier Version: 1.50.0 Command: /home/biocbuild/R/R/bin/R CMD build --keep-empty-dirs --no-resave-data geNetClassifier StartedAt: 2025-11-14 02:02:23 -0000 (Fri, 14 Nov 2025) EndedAt: 2025-11-14 02:02:44 -0000 (Fri, 14 Nov 2025) EllapsedTime: 21.0 seconds RetCode: 0 Status: OK PackageFile: geNetClassifier_1.50.0.tar.gz PackageFileSize: 3.929 MiB