Package: geNetClassifier Version: 1.50.0 Command: /home/biocbuild/bbs-3.22-bioc/R/bin/R CMD check --install=check:geNetClassifier.install-out.txt --library=/home/biocbuild/bbs-3.22-bioc/R/site-library --timings geNetClassifier_1.50.0.tar.gz StartedAt: 2025-11-11 23:58:04 -0500 (Tue, 11 Nov 2025) EndedAt: 2025-11-11 23:59:01 -0500 (Tue, 11 Nov 2025) EllapsedTime: 57.1 seconds RetCode: 0 Status: OK CheckDir: geNetClassifier.Rcheck Warnings: 0