Package: geNetClassifier Version: 1.48.0 Command: /Library/Frameworks/R.framework/Resources/bin/R CMD check --install=check:geNetClassifier.install-out.txt --library=/Library/Frameworks/R.framework/Resources/library --no-vignettes --timings geNetClassifier_1.48.0.tar.gz StartedAt: 2025-10-14 04:13:59 -0400 (Tue, 14 Oct 2025) EndedAt: 2025-10-14 04:16:53 -0400 (Tue, 14 Oct 2025) EllapsedTime: 174.0 seconds RetCode: 0 Status: OK CheckDir: geNetClassifier.Rcheck Warnings: 0