Package: geNetClassifier Version: 1.48.0 Command: /home/biocbuild/R/R/bin/R CMD build --keep-empty-dirs --no-resave-data geNetClassifier StartedAt: 2025-09-26 01:52:24 -0000 (Fri, 26 Sep 2025) EndedAt: 2025-09-26 01:52:45 -0000 (Fri, 26 Sep 2025) EllapsedTime: 21.0 seconds RetCode: 0 Status: OK PackageFile: geNetClassifier_1.48.0.tar.gz PackageFileSize: 3.929 MiB