Package: gdsfmt Version: 1.44.1 Command: /home/biocbuild/bbs-3.21-bioc/R/bin/R CMD INSTALL gdsfmt StartedAt: 2025-10-15 15:02:29 -0400 (Wed, 15 Oct 2025) EndedAt: 2025-10-15 15:06:25 -0400 (Wed, 15 Oct 2025) EllapsedTime: 236.9 seconds RetCode: 0 Status: OK