Package: gdsfmt Version: 1.44.1 Command: /home/biocbuild/bbs-3.21-bioc/R/bin/R CMD build --keep-empty-dirs --no-resave-data gdsfmt StartedAt: 2025-10-15 17:37:01 -0400 (Wed, 15 Oct 2025) EndedAt: 2025-10-15 17:40:46 -0400 (Wed, 15 Oct 2025) EllapsedTime: 225.2 seconds RetCode: 0 Status: OK PackageFile: gdsfmt_1.44.1.tar.gz PackageFileSize: 2.796 MiB