Package: gdsfmt Version: 1.44.1 Command: /home/biocbuild/R/R/bin/R CMD INSTALL gdsfmt StartedAt: 2025-09-25 20:14:03 -0000 (Thu, 25 Sep 2025) EndedAt: 2025-09-25 20:20:06 -0000 (Thu, 25 Sep 2025) EllapsedTime: 363.3 seconds RetCode: 0 Status: OK