Package: gdsfmt Version: 1.44.1 Command: /Library/Frameworks/R.framework/Resources/bin/R CMD build --keep-empty-dirs --no-resave-data gdsfmt StartedAt: 2025-10-14 00:50:04 -0400 (Tue, 14 Oct 2025) EndedAt: 2025-10-14 00:53:30 -0400 (Tue, 14 Oct 2025) EllapsedTime: 206.1 seconds RetCode: 0 Status: OK PackageFile: gdsfmt_1.44.1.tar.gz PackageFileSize: 2.796 MiB