Package: gcrma Version: 2.82.0 Command: /home/biocbuild/bbs-3.22-bioc/R/bin/R CMD build --keep-empty-dirs --no-resave-data --md5 gcrma StartedAt: 2025-11-11 17:47:58 -0500 (Tue, 11 Nov 2025) EndedAt: 2025-11-11 17:48:12 -0500 (Tue, 11 Nov 2025) EllapsedTime: 14.0 seconds RetCode: 0 Status: OK PackageFile: gcrma_2.82.0.tar.gz PackageFileSize: 290.5 KiB