Package: gcatest Version: 2.10.0 Command: /home/biocbuild/bbs-3.22-bioc/R/bin/R CMD INSTALL gcatest StartedAt: 2025-11-11 15:09:40 -0500 (Tue, 11 Nov 2025) EndedAt: 2025-11-11 15:09:49 -0500 (Tue, 11 Nov 2025) EllapsedTime: 9.3 seconds RetCode: 0 Status: OK