Package: gcatest Version: 2.8.0 Command: /home/biocbuild/R/R/bin/R CMD INSTALL gcatest StartedAt: 2025-10-13 20:16:13 -0000 (Mon, 13 Oct 2025) EndedAt: 2025-10-13 20:16:34 -0000 (Mon, 13 Oct 2025) EllapsedTime: 20.9 seconds RetCode: 0 Status: OK