Package: gcatest Version: 2.10.0 Command: /Library/Frameworks/R.framework/Resources/bin/R CMD INSTALL gcatest StartedAt: 2025-11-06 15:03:23 -0500 (Thu, 06 Nov 2025) EndedAt: 2025-11-06 15:03:34 -0500 (Thu, 06 Nov 2025) EllapsedTime: 10.5 seconds RetCode: 0 Status: OK