Package: gcatest Version: 2.10.0 Command: rm -rf gcatest.buildbin-libdir && mkdir gcatest.buildbin-libdir && /Users/biocbuild/BBS/utils/build-universal.sh gcatest_2.10.0.tar.gz /Library/Frameworks/R.framework/Resources/bin/R gcatest.buildbin-libdir StartedAt: 2025-11-06 23:05:40 -0500 (Thu, 06 Nov 2025) EndedAt: 2025-11-06 23:05:44 -0500 (Thu, 06 Nov 2025) EllapsedTime: 4.1 seconds RetCode: 0 Status: OK PackageFile: gcatest_2.10.0.tgz PackageFileSize: 3.549 MiB