Package: gcapc Version: 1.34.0 Command: /home/biocbuild/bbs-3.22-bioc/R/bin/R CMD INSTALL gcapc StartedAt: 2025-11-11 15:31:59 -0500 (Tue, 11 Nov 2025) EndedAt: 2025-11-11 15:32:31 -0500 (Tue, 11 Nov 2025) EllapsedTime: 31.6 seconds RetCode: 0 Status: OK