Package: gcapc Version: 1.34.0 Command: /home/biocbuild/bbs-3.22-bioc/R/bin/R CMD check --install=check:gcapc.install-out.txt --library=/home/biocbuild/bbs-3.22-bioc/R/site-library --timings gcapc_1.34.0.tar.gz StartedAt: 2025-11-11 23:51:31 -0500 (Tue, 11 Nov 2025) EndedAt: 2025-11-12 00:00:41 -0500 (Wed, 12 Nov 2025) EllapsedTime: 549.6 seconds RetCode: 0 Status: OK CheckDir: gcapc.Rcheck Warnings: 0