Package: gcapc Version: 1.32.0 Command: /home/biocbuild/bbs-3.21-bioc/R/bin/R CMD build --keep-empty-dirs --no-resave-data gcapc StartedAt: 2025-10-15 17:35:39 -0400 (Wed, 15 Oct 2025) EndedAt: 2025-10-15 17:39:09 -0400 (Wed, 15 Oct 2025) EllapsedTime: 210.2 seconds RetCode: 0 Status: OK PackageFile: gcapc_1.32.0.tar.gz PackageFileSize: 3.81 MiB