Package: gcapc Version: 1.32.0 Command: /Library/Frameworks/R.framework/Resources/bin/R CMD INSTALL gcapc StartedAt: 2025-04-21 15:16:35 -0400 (Mon, 21 Apr 2025) EndedAt: 2025-04-21 15:16:48 -0400 (Mon, 21 Apr 2025) EllapsedTime: 13.7 seconds RetCode: 0 Status: OK