Package: gcapc Version: 1.32.0 Command: /Library/Frameworks/R.framework/Resources/bin/R CMD build --keep-empty-dirs --no-resave-data gcapc StartedAt: 2025-04-21 16:23:30 -0400 (Mon, 21 Apr 2025) EndedAt: 2025-04-21 16:24:53 -0400 (Mon, 21 Apr 2025) EllapsedTime: 82.9 seconds RetCode: 0 Status: OK PackageFile: gcapc_1.32.0.tar.gz PackageFileSize: 3.791 MiB