Package: gcapc Version: 1.32.0 Command: rm -rf gcapc.buildbin-libdir && mkdir gcapc.buildbin-libdir && /Users/biocbuild/BBS/utils/build-universal.sh gcapc_1.32.0.tar.gz /Library/Frameworks/R.framework/Resources/bin/R gcapc.buildbin-libdir StartedAt: 2025-10-15 18:34:53 -0400 (Wed, 15 Oct 2025) EndedAt: 2025-10-15 18:35:33 -0400 (Wed, 15 Oct 2025) EllapsedTime: 40.6 seconds RetCode: 0 Status: OK PackageFile: gcapc_1.32.0.tgz PackageFileSize: 3.869 MiB