Package: gcapc Version: 1.34.0 Maintainer: Mingxiang Teng MaintainerEmail: tengmx at gmail.com git_url: https://git.bioconductor.org/packages/gcapc git_branch: RELEASE_3_22 git_last_commit: 689a02e git_last_commit_date: 2025-10-29 10:35:52 -0400 (Wed, 29 Oct 2025)