Package: gatom Version: 1.8.2 Command: /home/biocbuild/R/R/bin/R CMD INSTALL gatom StartedAt: 2025-11-13 21:33:48 -0000 (Thu, 13 Nov 2025) EndedAt: 2025-11-13 21:34:12 -0000 (Thu, 13 Nov 2025) EllapsedTime: 23.8 seconds RetCode: 0 Status: OK