Package: gatom Version: 1.8.2 Command: /home/biocbuild/bbs-3.22-bioc/R/bin/R CMD INSTALL gatom StartedAt: 2025-11-11 15:30:02 -0500 (Tue, 11 Nov 2025) EndedAt: 2025-11-11 15:30:19 -0500 (Tue, 11 Nov 2025) EllapsedTime: 17.0 seconds RetCode: 0 Status: OK