Package: gatom Version: 1.6.0 Command: /home/biocbuild/bbs-3.21-bioc/R/bin/R CMD INSTALL gatom StartedAt: 2025-10-12 15:25:27 -0400 (Sun, 12 Oct 2025) EndedAt: 2025-10-12 15:25:44 -0400 (Sun, 12 Oct 2025) EllapsedTime: 16.8 seconds RetCode: 0 Status: OK