Package: gatom Version: 1.6.0 Command: /home/biocbuild/bbs-3.21-bioc/R/bin/R CMD build --keep-empty-dirs --no-resave-data gatom StartedAt: 2025-10-12 17:35:33 -0400 (Sun, 12 Oct 2025) EndedAt: 2025-10-12 17:40:51 -0400 (Sun, 12 Oct 2025) EllapsedTime: 317.4 seconds RetCode: 0 Status: OK PackageFile: gatom_1.6.0.tar.gz PackageFileSize: 1.608 MiB