Package: gatom Version: 1.6.0 Command: /Library/Frameworks/R.framework/Resources/bin/R CMD INSTALL gatom StartedAt: 2025-10-09 15:47:12 -0400 (Thu, 09 Oct 2025) EndedAt: 2025-10-09 15:47:33 -0400 (Thu, 09 Oct 2025) EllapsedTime: 21.2 seconds RetCode: 0 Status: OK