Package: gatom Version: 1.6.0 Command: /Library/Frameworks/R.framework/Resources/bin/R CMD build --keep-empty-dirs --no-resave-data gatom StartedAt: 2025-10-10 00:55:16 -0400 (Fri, 10 Oct 2025) EndedAt: 2025-10-10 01:01:21 -0400 (Fri, 10 Oct 2025) EllapsedTime: 364.4 seconds RetCode: 0 Status: OK PackageFile: gatom_1.6.0.tar.gz PackageFileSize: 1.609 MiB