Package: gage Version: 2.60.0 Command: /home/biocbuild/bbs-3.22-bioc/R/bin/R CMD INSTALL gage StartedAt: 2025-11-02 15:57:20 -0500 (Sun, 02 Nov 2025) EndedAt: 2025-11-02 15:57:35 -0500 (Sun, 02 Nov 2025) EllapsedTime: 15.3 seconds RetCode: 0 Status: OK