Package: gaga Version: 2.56.0 Command: /home/biocbuild/bbs-3.22-bioc/R/bin/R CMD build --keep-empty-dirs --no-resave-data --md5 gaga StartedAt: 2025-11-13 17:46:03 -0500 (Thu, 13 Nov 2025) EndedAt: 2025-11-13 17:46:25 -0500 (Thu, 13 Nov 2025) EllapsedTime: 22.0 seconds RetCode: 0 Status: OK PackageFile: gaga_2.56.0.tar.gz PackageFileSize: 571.4 KiB